BEGIN:VCALENDAR
VERSION:2.0
PRODID:-//Wicklow County Tourism - ECPv6.13.2.1//NONSGML v1.0//EN
CALSCALE:GREGORIAN
METHOD:PUBLISH
X-ORIGINAL-URL:https://visitwicklow.ie
X-WR-CALDESC:Events for Wicklow County Tourism
REFRESH-INTERVAL;VALUE=DURATION:PT1H
X-Robots-Tag:noindex
X-PUBLISHED-TTL:PT1H
BEGIN:VTIMEZONE
TZID:Europe/London
BEGIN:DAYLIGHT
TZOFFSETFROM:+0000
TZOFFSETTO:+0100
TZNAME:BST
DTSTART:20240331T010000
END:DAYLIGHT
BEGIN:STANDARD
TZOFFSETFROM:+0100
TZOFFSETTO:+0000
TZNAME:GMT
DTSTART:20241027T010000
END:STANDARD
END:VTIMEZONE
BEGIN:VEVENT
DTSTART;VALUE=DATE:20240812
DTEND;VALUE=DATE:20240819
DTSTAMP:20260422T103617
CREATED:20240719T102200Z
LAST-MODIFIED:20240719T102200Z
UID:56901-1723420800-1724025599@visitwicklow.ie
SUMMARY:HER Outdoors Week 2024
DESCRIPTION:HER Outdoors week aims to celebrate and encourage more females to get out and enjoy the benefits of being in the outdoors while bringing visibility to the opportunities for females to get involved in outdoor physical activity. \nThis week is all about providing more opportunities for ALL females to escape to the outdoors and try something new. For such a tiny island\, there are so many incredible outdoor activities on offer and this should be celebrated to the fullest! \nHER Outdoors Week will take place from August 12th – 18th\, 2024 and what a week it will be! \nFor more information\, visit the website!
URL:https://visitwicklow.ie/event/her-outdoors-week-2024/
ATTACH;FMTTYPE=image/jpeg:https://visitwicklow.ie/wp-assets/uploads/2024/07/Her-Outdoors-Feat.jpg
END:VEVENT
BEGIN:VEVENT
DTSTART;VALUE=DATE:20240817
DTEND;VALUE=DATE:20240826
DTSTAMP:20260422T103617
CREATED:20230726T110702Z
LAST-MODIFIED:20240812T142027Z
UID:53248-1723852800-1724630399@visitwicklow.ie
SUMMARY:Heritage Week in County Wicklow
DESCRIPTION:National Heritage will take place from Saturday 17th to Sunday 25th of August. This year’s theme ‘Connections\, Routes and Networks’ celebrates how we connect to each other\, the links between people and communities. \nThis year\, the list of events promises to be bigger than ever\, with over 60 events scheduled to take place over nine days. Among the highlights include the following events; \n  \n\nWicklow’s Military Road Stories Evening with Fin Dwyer from Irish History Podcasts at Brockagh Centre\, Laragh\nWicklow Barn Owls Poo and Pellets Workshop at Rathdrum Library\nConnecting St. Kevin: Heritage open days at St Kevins Church of Ireland\, Hollywood and St. Kevin’s Church in Glendalough Monastery.\nHistoric Graveyards Workshop in Wicklow Library\nDublin & Blessington Steam Tram exhibition in Blessington Tourist Office and Wicklow Archives exhibitions at Tinahely and Carnew.\nArt and poetry events in Arklow and Greystones\nHeritage Market at Tinahely Village\nEvening Bat Walks at Knocksink Nature Reserve  and Donard Village\nWild Child Nature exploration at Baltyboys and children’s Big Dig  archaeology excavation and Lego workshops at Glendalough\nHeritage Hikes to explore Church Mountain and Seefin Tombs\nMedieval pilgrimage walks and talks\nSpecialist talks on drystone walls\, Invasive Species\, Ogham script\, local history\, genealogy  and archives\nSpecialist guided walking tours at Delgany\, Tinahely\, Greystones\, Bray\, Enniskerry\, Roundwood\, Kilmacurragh Arboretum\, Kilruddery\, Knocksink\, Castleruddery\, Glenmalure \, Dunlavin and Glendalough.\nSpecial open days at Altidore Castle\, Kilruddery House\, Old Conna Graveyard Bray\,  Russborough House\, Nuns Cross Church\, Glenealy Church\, Christchurch Bray and at ESB’s  Turlough Hill Hydropower station\n\n  \nThe majority of events are free and family friendly and seek to strengthen connections with Wicklow’s rich heritage including nature\, wildlife\, monuments\, folklore and history. \nFor the full program of events Wicklow\, please visit: https://www.heritageweek.ie/event-listings?q=wicklow#listings  \nFor further information on Heritage Week and current events\, visit www.heritageweek.ie.
URL:https://visitwicklow.ie/event/heritage-week-in-county-wicklow/
ATTACH;FMTTYPE=image/jpeg:https://visitwicklow.ie/wp-assets/uploads/2017/08/Heritage-Week-VW.jpg
END:VEVENT
BEGIN:VEVENT
DTSTART;TZID=Europe/London:20240817T080000
DTEND;TZID=Europe/London:20240817T170000
DTSTAMP:20260422T103617
CREATED:20240625T103036Z
LAST-MODIFIED:20240625T103036Z
UID:56654-1723881600-1723914000@visitwicklow.ie
SUMMARY:Flow State - Open Water Festival
DESCRIPTION:With an abundance of opportunity available up and down the shores of our Irish Sea\, the inaugural Flow State Open Water Festival is here to shine a light on the athletes\, activities and groups involved in both using and protecting these fantastic shores. \nOn August 17th\, join in on a day of open water dips\, races\, demonstrations\, presentations and interviews that are sure to inspire you to think about our shoreline in a way you haven’t before! \nFor more information on the Open Water Festival\, visit their website and follow on Instagram!
URL:https://visitwicklow.ie/event/flow-state-open-water-festival/
ATTACH;FMTTYPE=image/jpeg:https://visitwicklow.ie/wp-assets/uploads/2024/06/Open-Water-Fest-Feat1.jpg
END:VEVENT
BEGIN:VEVENT
DTSTART;VALUE=DATE:20240831
DTEND;VALUE=DATE:20240901
DTSTAMP:20260422T103617
CREATED:20240124T164726Z
LAST-MODIFIED:20240125T102809Z
UID:55361-1725062400-1725148799@visitwicklow.ie
SUMMARY:Hell & Back Junior
DESCRIPTION:HELL & BACK Junior is a fun and exhilarating 3KM obstacle challenge for national school children aged 8-12 seeking the ultimate outdoor adventure! \nExclusively for children\, H&B Junior is ideal for Sports Clubs\, Scouts Groups and School Friends!  \nWith Ireland’s Fittest Family also filmed onsite in Killruddery\, many of the obstacles on the H&B Junior course are featured on the hugely popular TV show\, including Hell on Earth\, Black Pearl\, Tyre Zone and the infamous Halfpipe Finish Ramp! \nMake sure to book your tickets in advance! \nFor more information\, visit their website\, Facebook\, & Instagram
URL:https://visitwicklow.ie/event/hell-back-junior-2/
ATTACH;FMTTYPE=image/jpeg:https://visitwicklow.ie/wp-assets/uploads/2024/01/Hell-Back-Junior.jpg
END:VEVENT
END:VCALENDAR