BEGIN:VCALENDAR
VERSION:2.0
PRODID:-//Wicklow County Tourism - ECPv6.13.2.1//NONSGML v1.0//EN
CALSCALE:GREGORIAN
METHOD:PUBLISH
X-WR-CALNAME:Wicklow County Tourism
X-ORIGINAL-URL:https://visitwicklow.ie
X-WR-CALDESC:Events for Wicklow County Tourism
REFRESH-INTERVAL;VALUE=DURATION:PT1H
X-Robots-Tag:noindex
X-PUBLISHED-TTL:PT1H
BEGIN:VTIMEZONE
TZID:Europe/London
BEGIN:DAYLIGHT
TZOFFSETFROM:+0000
TZOFFSETTO:+0100
TZNAME:BST
DTSTART:20220327T010000
END:DAYLIGHT
BEGIN:STANDARD
TZOFFSETFROM:+0100
TZOFFSETTO:+0000
TZNAME:GMT
DTSTART:20221030T010000
END:STANDARD
END:VTIMEZONE
BEGIN:VEVENT
DTSTART;VALUE=DATE:20221031
DTEND;VALUE=DATE:20221101
DTSTAMP:20260423T151317
CREATED:20221003T092143Z
LAST-MODIFIED:20221003T092145Z
UID:51616-1667174400-1667260799@visitwicklow.ie
SUMMARY:October Feast 2022 - Wicklow Naturally
DESCRIPTION:Treat your tastebuds and set your sights on Wicklow Naturally’s October Feast\, which returns for 2022 \nWicklow Naturally’s October Feast is a month-long celebration of Wicklow’s food and drinks story\, including farming\, foraging\, brewing\, distilling\, and much more. \nThe popular festival celebrates Wicklow’s thriving food and drinks scene. Throughout the month\, Wicklow Naturally members’ will showcase their range of products\, diverse experiences and numerous interactive events. \nTreat your tastebuds and set your sights on these amazing events… From hands-on masterclasses\, learning about our farm-family sustainable stories\, taking some of the country’s best distillery\, beer\, and wine tasting tours\, to cooking demonstrations\, meeting the maker and heading out on guided foraging and mushroom hunts. \nYou can also enjoy a taste of Wicklow Naturally as eatery members throughout the county showcase the finest Wicklow produce in their seasonal menus. \nThe network will also hold food waste\, food poverty and environmental awareness initiatives. \nCLICK HERE FOR MORE INFO  \nOctober Feast Highlights :\nMeet the Makers \nYou can ‘Meet the Makers’\, taste their delicious range and get some great recipe ideas every Friday throughout October from 12 noon to 2 pm at Gallagher’s SuperValu Wicklow. The exciting schedule includes Sussed / Wicklow Rapeseed Oil on October 4th\, Old MacDonnell’s Farm on October 14th\, Mic’s Chilli on October 21st and Le Paysan on October 28th. \nEnjoy a taste of Wicklow Naturally \nEnjoy a taste of Wicklow as Wicklow Naturally eatery members throughout the county showcase the finest Wicklow produce in their seasonal menus. There are numerous dining experiences to tantalise your taste buds\, including BrookLodge & Macreddin Village\, Mickey Finn’s Pub and Restaurant\, Sorrel & Eve and Goldmines Bistro at Woodenbridge Hotel & Lodge. \nHave a culinary adventure \nHave an unforgettable culinary adventure with our bespoke food and drink producers’ tours of County Wicklow\, which include: \n\nAn Tairseach Farm to Fork Tour & Dinner on Friday\, October 14th\nFarm to Fork Tour on Wednesday\, October 19th – SOLD OUT\nInternational Culinary Professionals and Academics Farm to Fork Tour Wednesday\, October 19th & Thursday\, October 20th – SOLD OUT\n\nEnjoy a drink and have a learning experience with one of the many Wicklow Naturally drink producers as they give behind-the-scenes access to their businesses. They include: \n\nMóinéir Wine Tasting and Winery Tour on Saturday\, October 15th\nWicklow Brewery Tour combined with Food & Beer Paring Deluxe Menu on Saturday\, October 15th\nWicklow Wolf Brewery Tour & Tasting on Tuesday\, October 20th\n\nForage for tasty ingredients \nWicklow Naturally forager members Hips and Haws Wildcrafts\, Mushroomstuff and Wicklow Wild Foods will host several tours during October Feast to teach attendees how to forage for food in County Wicklow. \nLibrary Talks \nWhy not join a member of the Wicklow Naturally network and the County Wicklow Library service as they host several of talks about stopping food waste? \nThe talks are aimed to give attendees all the info and tips they need to make the most of their food\, cut down on waste\, and break down those barriers that prevent them from being creative in the kitchen. This event is open to all ages and no registration is required. \nThe free series of library talks will take place every Tuesday throughout October at 7 pm. \nLibrary Talks Schedule \n\nBray Library – Date TBC\nArklow Library – Tuesday\, October 11th\nBlessington Library –  Tuesday\, October 18th\nDunlavin Library – Tuesday\, October 25th\nWicklow Town Library –  Date TBC\n\nWicklow Naturally Indoor Market \nTake home a taste of Wicklow from our exclusive Wicklow Naturally Market for October Feast. There will be a fabulous range of Wicklow Naturally produce to buy. The Market will be open from 10 am to 4 pm at Healthy Habits in Wicklow Town on Saturday\, October 28th. \nOctober Feast Student Challenge \nThis year Wicklow Naturally is once again running its October Feast Schools Challenge. There are two categories which consist of Transition Year students and the other is for fifth and sixth-class students from primary school. \nTransition Year Students Challenge \nTransition year students are invited to design a 3-course menu using only ingredients produced or made in Co. Wicklow. \nPrimary School Challenge (5th & 6th Class) \nFifth and sixth-class students are invited to create a school lunch item using only Wicklow products. \nTwo students from each of the category winners will represent their school at the Taste of Wicklow 2023 where they will recreate their 3-course menu/lunch item with assistance from a surprise celebrity chef. \nEntries can be submitted via https://wicklownaturally.ie/octoberfeast2022/. \nPlaces are limited on tours and selected events. Tickets can be booked by visiting our event page at https://wicklownaturally.ie/events/. To book a dining experience at any of our members’ eateries\, please contact the hotel or restaurant directly. All events are subject to change without notice and may be dependant on weather. \nCLICK HERE FOR MORE INFO 
URL:https://visitwicklow.ie/event/october-feast-2022-wicklow-naturally/
ATTACH;FMTTYPE=image/jpeg:https://visitwicklow.ie/wp-assets/uploads/2022/10/october-feast-scaled.jpg
END:VEVENT
END:VCALENDAR