BEGIN:VCALENDAR
VERSION:2.0
PRODID:-//Wicklow County Tourism - ECPv6.13.2.1//NONSGML v1.0//EN
CALSCALE:GREGORIAN
METHOD:PUBLISH
X-WR-CALNAME:Wicklow County Tourism
X-ORIGINAL-URL:https://visitwicklow.ie
X-WR-CALDESC:Events for Wicklow County Tourism
REFRESH-INTERVAL;VALUE=DURATION:PT1H
X-Robots-Tag:noindex
X-PUBLISHED-TTL:PT1H
BEGIN:VTIMEZONE
TZID:Europe/London
BEGIN:DAYLIGHT
TZOFFSETFROM:+0000
TZOFFSETTO:+0100
TZNAME:BST
DTSTART:20220327T010000
END:DAYLIGHT
BEGIN:STANDARD
TZOFFSETFROM:+0100
TZOFFSETTO:+0000
TZNAME:GMT
DTSTART:20221030T010000
END:STANDARD
END:VTIMEZONE
BEGIN:VEVENT
DTSTART;VALUE=DATE:20220410
DTEND;VALUE=DATE:20220411
DTSTAMP:20260423T230807
CREATED:20220325T135020Z
LAST-MODIFIED:20220325T135020Z
UID:50555-1649548800-1649635199@visitwicklow.ie
SUMMARY:Rhododendron Week @National Botanic Gardens Kilmacurragh
DESCRIPTION:Rhododendron Week is back at Kilmacurragh from the 2nd to the 10th April 2022.  \nEvents brought to you by the National Botanic Gardens of Ireland and the Office of Public Works. \nProgramme of events:\nWednesday 6th April at 11.00am \nWalking tour in Kilmacurragh with Seamus O’Brien\, Head Gardener at the National Botanic Gardens of Ireland\, Kilmacurragh. \nTitle:  Restoring Kilmacurragh’s historic rhododendron collection. \nBooking required (Eventbrite).  Free event. Limited availability. \nSee botanicgardens.ie for full details. \n_______________________________________________________________ \nThursday 7th April 2022 at 6.00pm \nAn illustrated talk by Seamus O’Brien\, Head Gardener \nTitle: The Moores and Glasnevin – The Irish Rhododendron Story \nThis talk takes place in the Auditorium at the National Botanic Gardens of Ireland\, Glasnevin\, Dublin 9. \nBooking required (Eventbrite). Free event. Limited availability. \nSee botanicgardens.ie for full details. \n___________________________________________________________________ \nFriday 8th April 2022 at 6pm \nAn illustrated talk by Marie-Louise Agius\, Director of Exbury Gardens UK \nTitle: Exbury Gardens\, Past and Present  \nThis talk takes place in the Auditorium at the National Botanic Gardens of Ireland\, Glasnevin\, Dublin 9. \nBooking required (Eventbrite). Free event. Limited availability. \nSee botanicgardens.ie for full details. \n___________________________________________________________________________ \nSaturday 2nd April to Sunday 10th April 20222 \nFree guided tours every day during Rhododendron Week at the National Botanic Gardens\, Kilmacurragh\, Co. Wicklow at 12noon and 3pm daily. \nEnquiries/bookings to kilmacurraghgardens@opw.ie or (0404)48844 \nVideo stories on “Plant Highlights” and “Historic links between Glasnevin and Kilmacurragh” will be uploaded to social media and the National Botanic Gardens of Ireland YouTube channel. \nThe wearing of masks for indoor lectures is advised
URL:https://visitwicklow.ie/event/rhododendron-week-national-botanic-gardens-kilmacurragh/
ATTACH;FMTTYPE=image/jpeg:https://visitwicklow.ie/wp-assets/uploads/2022/03/rhododendrons-festival-kilmaccuragh.jpg
END:VEVENT
END:VCALENDAR