BEGIN:VCALENDAR
VERSION:2.0
PRODID:-//Wicklow County Tourism - ECPv6.13.2.1//NONSGML v1.0//EN
CALSCALE:GREGORIAN
METHOD:PUBLISH
X-WR-CALNAME:Wicklow County Tourism
X-ORIGINAL-URL:https://visitwicklow.ie
X-WR-CALDESC:Events for Wicklow County Tourism
REFRESH-INTERVAL;VALUE=DURATION:PT1H
X-Robots-Tag:noindex
X-PUBLISHED-TTL:PT1H
BEGIN:VTIMEZONE
TZID:Europe/London
BEGIN:DAYLIGHT
TZOFFSETFROM:+0000
TZOFFSETTO:+0100
TZNAME:BST
DTSTART:20210328T010000
END:DAYLIGHT
BEGIN:STANDARD
TZOFFSETFROM:+0100
TZOFFSETTO:+0000
TZNAME:GMT
DTSTART:20211031T010000
END:STANDARD
END:VTIMEZONE
BEGIN:VEVENT
DTSTART;TZID=Europe/London:20210216T190000
DTEND;TZID=Europe/London:20210216T200000
DTSTAMP:20260424T161437
CREATED:20210208T111255Z
LAST-MODIFIED:20210208T111636Z
UID:47544-1613502000-1613505600@visitwicklow.ie
SUMMARY:Wicklow’s Garden Birds Online Talk
DESCRIPTION:Tuesday 16th February @ 7 pm Wicklow’s Garden Birds by Niall Hatch\, Birdwatch Ireland\nJoin the ever knowledgeable Niall Hatch from Birdwatch Ireland as he takes us on a tour of the birds that are likely to visit your garden in county Wicklow \, with identification tips and lots of advice on how you can make your garden more inviting for our feathered friends all year round\, from Spring\, Summer\, Autumn and Winter. \nTo book your place click HERE \nSpending time in nature is good for us and good for our biodiversity! As the year springs into life\, so does our wildlife. Now is a great time  to observe seasonal changes and to take small steps to encourage wildlife on our doorsteps. \nThe Heritage & Biodiversity Office of Wicklow County Council and Wicklow Library Service have teamed up to bring you a programme of online talks to help you ‘Spring into nature’. The talks are free and will take place over zoom. Please register to secure your ticket.
URL:https://visitwicklow.ie/event/wicklows-garden-birds-online-talk/
ATTACH;FMTTYPE=image/jpeg:https://visitwicklow.ie/wp-assets/uploads/2018/08/Glendalogh-birds.jpg
END:VEVENT
END:VCALENDAR