BEGIN:VCALENDAR
VERSION:2.0
PRODID:-//Wicklow County Tourism - ECPv6.13.2.1//NONSGML v1.0//EN
CALSCALE:GREGORIAN
METHOD:PUBLISH
X-WR-CALNAME:Wicklow County Tourism
X-ORIGINAL-URL:https://visitwicklow.ie
X-WR-CALDESC:Events for Wicklow County Tourism
REFRESH-INTERVAL;VALUE=DURATION:PT1H
X-Robots-Tag:noindex
X-PUBLISHED-TTL:PT1H
BEGIN:VTIMEZONE
TZID:Europe/London
BEGIN:DAYLIGHT
TZOFFSETFROM:+0000
TZOFFSETTO:+0100
TZNAME:BST
DTSTART:20260329T010000
END:DAYLIGHT
BEGIN:STANDARD
TZOFFSETFROM:+0100
TZOFFSETTO:+0000
TZNAME:GMT
DTSTART:20261025T010000
END:STANDARD
END:VTIMEZONE
BEGIN:VEVENT
DTSTART;VALUE=DATE:20260425
DTEND;VALUE=DATE:20260426
DTSTAMP:20260425T011732
CREATED:20260206T095807Z
LAST-MODIFIED:20260206T095807Z
UID:60267-1777075200-1777161599@visitwicklow.ie
SUMMARY:Hell & Back Trail Running @ Dawn
DESCRIPTION:A PURE TRAIL RUN AT SUNRISE\n\n\nNo obstacles. No noise. Just the trail\, the dawn and you! \n\nThe world is still asleep when you begin. Cool air fills your lungs. The trail stretches ahead\, quiet and waiting.  Scarr Mountain at sunrise. Mist rising from the valleys. Ancient trees lining your path. Through forest paths and mountain trails\, you’ll run as the sky shifts from darkness to gold.  This is running as it should be – stripped back\, immersive\, unforgettable. \n\n\n\nA 10KM trail run in a brand new location\, created for runners who want honest distance\, varied terrain and a clean\, uninterrupted run. Ideal for club runners\, regular trail runners and anyone looking for a quality weekend session. \n​The route is 100% trail and tracks\, taking in natural ground\, forest paths and open sections. There are no obstacles or artificial challenges\, though you can expect the occasional natural feature such as uneven terrain or fallen trees – exactly what trail running is about. \n​No cargo nets\, no swamp pits\, no water obstacles\, no timing chips. Just continuous running\, changing terrain and a course that rewards rhythm and focus. ​A finisher’s medal marks the first edition of this new event\, with light refreshments at the finish so you can refuel\, recover and head into the rest of your day. \n\n\nIMPORTANT:  While created by the team behind HELL & BACK\, this is not a typical HELL & BACK event! \n\n\n 
URL:https://visitwicklow.ie/event/hell-back-trail-running-dawn/
ATTACH;FMTTYPE=image/jpeg:https://visitwicklow.ie/wp-assets/uploads/2026/02/Hell-Back-@-Dawn.jpg
END:VEVENT
END:VCALENDAR