BEGIN:VCALENDAR
VERSION:2.0
PRODID:-//Wicklow County Tourism - ECPv6.13.2.1//NONSGML v1.0//EN
CALSCALE:GREGORIAN
METHOD:PUBLISH
X-WR-CALNAME:Wicklow County Tourism
X-ORIGINAL-URL:https://visitwicklow.ie
X-WR-CALDESC:Events for Wicklow County Tourism
REFRESH-INTERVAL;VALUE=DURATION:PT1H
X-Robots-Tag:noindex
X-PUBLISHED-TTL:PT1H
BEGIN:VTIMEZONE
TZID:Europe/London
BEGIN:DAYLIGHT
TZOFFSETFROM:+0000
TZOFFSETTO:+0100
TZNAME:BST
DTSTART:20250330T010000
END:DAYLIGHT
BEGIN:STANDARD
TZOFFSETFROM:+0100
TZOFFSETTO:+0000
TZNAME:GMT
DTSTART:20251026T010000
END:STANDARD
END:VTIMEZONE
BEGIN:VEVENT
DTSTART;VALUE=DATE:20250719
DTEND;VALUE=DATE:20250805
DTSTAMP:20260421T103229
CREATED:20250708T144321Z
LAST-MODIFIED:20250708T144321Z
UID:58973-1752883200-1754351999@visitwicklow.ie
SUMMARY:Seafront Funfair in Bray 19th July-4th August 2025
DESCRIPTION:The Seafront Funfair arrives in town on Saturday\, July 19th\, until Bank Holiday Monday\, August 4th *(closed on Monday\, July 28th\, and Tuesday\, July 29th). \nEnjoy bumper cars\, games\, stalls\, and more every day from 12 pm to 10 pm.\n\nSpecial discounted tickets can be purchased on weekdays at the on-site box office.
URL:https://visitwicklow.ie/event/seafront-funfair-in-bray-19th-july-4th-august-2025/
ATTACH;FMTTYPE=image/jpeg:https://visitwicklow.ie/wp-assets/uploads/2025/07/Funfair-2025.jpg
END:VEVENT
BEGIN:VEVENT
DTSTART;VALUE=DATE:20250719
DTEND;VALUE=DATE:20250824
DTSTAMP:20260421T103229
CREATED:20250715T082623Z
LAST-MODIFIED:20250715T082623Z
UID:59110-1752883200-1755993599@visitwicklow.ie
SUMMARY:Music in the Forest an Ancient Music Festival in Dorlindon Forest
DESCRIPTION:This summer\, experience a celebration of Ancient Music in one of Ireland’s most enchanting natural settings. Hosted at Dorlindon Nature Sanctuary\, this open-air festival brings together live performances of Medieval\, Renaissance\, and Baroque music\, performed in a mythical forest environment rich with beauty\, stillness\, and atmosphere. A unique blend of sounds from across the ages\, including Irish Classical and traditional influences. \nThere are a selection of dates throughout the summer\, please click the link for more information. \nOnline booking only: \nhttps://www.dorlindon.com/en/music-in-the-forest/index.php
URL:https://visitwicklow.ie/event/music-in-the-forest-an-ancient-music-festival-in-dorlindon-forest/
ATTACH;FMTTYPE=image/jpeg:https://visitwicklow.ie/wp-assets/uploads/2025/07/Dorlindon-Music-Festival.jpg
END:VEVENT
BEGIN:VEVENT
DTSTART;VALUE=DATE:20250725
DTEND;VALUE=DATE:20250805
DTSTAMP:20260421T103229
CREATED:20250523T091600Z
LAST-MODIFIED:20250718T134006Z
UID:58645-1753401600-1754351999@visitwicklow.ie
SUMMARY:Wicklow Regatta Festival 2025
DESCRIPTION:WILL WE SEE YOU AT THE REGATTA?\n\n\nLive music\, creative workshops\, sporting events\, family fun\, competitions\, fireworks and so much more – there’s something for everyone at this Regatta!\nFrom singing pubs to music in the square\, crazy glazing to Zumba\, farm tours\, astronomy nights\, kit flying\, funfairs and of course that epic fireworks finale – this is an unforgettable festival of fun.\n\nCheck out our full schedule on our social media pages but PLEASE DO KEEP IN MIND THAT ALL EVENTS ARE SUBJECT TO CHANGE.\n\n\n\n\n\n\n  \n     \n\n\n\n\n\n\nKeep an eye on our Home Page – Wicklow Regatta\nWicklow Regatta Festival | Wicklow | Facebook\nWicklow Regatta Festival (@regattafestival) • Instagram photos and videos
URL:https://visitwicklow.ie/event/wicklow-regatta-festival-2025/
ATTACH;FMTTYPE=image/jpeg:https://visitwicklow.ie/wp-assets/uploads/2025/05/Wicklow-regatta-festival-2-e1747991207273.jpg
END:VEVENT
BEGIN:VEVENT
DTSTART;VALUE=DATE:20250726
DTEND;VALUE=DATE:20250728
DTSTAMP:20260421T103229
CREATED:20250618T143341Z
LAST-MODIFIED:20250618T143341Z
UID:58878-1753488000-1753660799@visitwicklow.ie
SUMMARY:Brave Meave Family Festival Bray 26th & 27th July 2025
DESCRIPTION:The Brave Maeve Family Festival is back by popular demand\, transforming Bray Seafront into a magical world of mythology\, music\, movement\, and mindful moments. \nInspired by the legendary tale of Brave Maeve\, a giant heroine awakening from her ancient slumber\, this free\, family-friendly festival blends folklore and fun across five immersive themed zones: Showtime Stage\, Beach Theatre Area\, Crafty Cave\, Imagination Station and Zen by the Sea Zone. \nWhether you’re dancing to the beat\, creating magical crafts\, or unwinding in a mindful moment by the sea\, the festival has something for everyone. \nThe festival promises a magical experience for all and will take place on Saturday\, July 26th\, and Sunday\, July 27th\, 2025\, daily from noon until 6 pm. Admission is entirely free (no tickets are required). \n\nAerial Shows\nCraft Cave\nFunfair\nShowtime Stage\nImagination Station\nZen by the Sea Zone\n\nParticipants are also encouraged to take part in the #2MinuteBeachClean\, a simple but powerful initiative that invites everyone to give back to Bray’s beautiful shoreline.
URL:https://visitwicklow.ie/event/brave-meave-family-festival-bray-26th-27th-july-2025/
ATTACH;FMTTYPE=image/png:https://visitwicklow.ie/wp-assets/uploads/2025/06/Brave-Meave.png
END:VEVENT
BEGIN:VEVENT
DTSTART;VALUE=DATE:20250727
DTEND;VALUE=DATE:20250728
DTSTAMP:20260421T103229
CREATED:20250708T144653Z
LAST-MODIFIED:20250708T144653Z
UID:58978-1753574400-1753660799@visitwicklow.ie
SUMMARY:Chrome The Classic Car & Bike Show
DESCRIPTION:The Chrome Classic Car & Bike Show revs up at Bray seafront on Sunday\, July 27th\, from 11 am to 7 pm. \nThis year’s event guarantees a day full of entertainment\, delicious food\, and fun for the whole family\, making it the perfect spot for enthusiasts and families.\n\nBetween 11 am and 4 pm\, attendees can enjoy a stunning showcase of iconic vintage vehicles\, including beautifully restored classics and one-of-a-kind models.\n\n#SummerInBray 2025: Your ultimate guide to sun\, sand\, and sizzling events! – bray.ie
URL:https://visitwicklow.ie/event/chrome-the-classic-car-bike-show/
ATTACH;FMTTYPE=image/jpeg:https://visitwicklow.ie/wp-assets/uploads/2025/07/Chrome@3x.jpg
END:VEVENT
END:VCALENDAR