BEGIN:VCALENDAR
VERSION:2.0
PRODID:-//Wicklow County Tourism - ECPv6.13.2.1//NONSGML v1.0//EN
CALSCALE:GREGORIAN
METHOD:PUBLISH
X-WR-CALNAME:Wicklow County Tourism
X-ORIGINAL-URL:https://visitwicklow.ie
X-WR-CALDESC:Events for Wicklow County Tourism
REFRESH-INTERVAL;VALUE=DURATION:PT1H
X-Robots-Tag:noindex
X-PUBLISHED-TTL:PT1H
BEGIN:VTIMEZONE
TZID:Europe/London
BEGIN:DAYLIGHT
TZOFFSETFROM:+0000
TZOFFSETTO:+0100
TZNAME:BST
DTSTART:20210328T010000
END:DAYLIGHT
BEGIN:STANDARD
TZOFFSETFROM:+0100
TZOFFSETTO:+0000
TZNAME:GMT
DTSTART:20211031T010000
END:STANDARD
END:VTIMEZONE
BEGIN:VEVENT
DTSTART;TZID=Europe/London:20211127T080000
DTEND;TZID=Europe/London:20211227T170000
DTSTAMP:20260424T053104
CREATED:20211008T095316Z
LAST-MODIFIED:20211011T090238Z
UID:50061-1638000000-1640624400@visitwicklow.ie
SUMMARY:Wicklow Christmas Market 2021
DESCRIPTION:the Wicklow Christmas Market 2021 will take place at Leitrim Place The Murrough Wicklow Town for the 21st of November to the 21st of December. \nWe are pleased to announce this Market is FREE to the public\, and offers food\, activities and entertainment for everyone in the family.  Start your Christmas shopping\, visit Santa and spend the day enjoying the sights and sounds of Christmas. \nWicklow Christmas Market is the perfect way to ring in the festive season.  Activities will include: \n\nFood vendors offering culinary delights from around the globe.\nLocal artisans selling handmade crafts\, gifts and art.\nFun Fair including carnival rides and games.\nAlpaca experience\nVisit with Santa and his elves\nNew this year Eco Ice Rink.\n\nLocated within the Wicklow Christmas Market is the Santa Express\, an interactive opportunity to take a magical trip to the North Pole and to Santa’s house. Families will travel in their own train car with Oribel\, Santa’s head elf\, as the conductor. Once at the North Pole\, families will be entertained by the mischievous Elf and Safety and Mrs. Claus. Then of course\, will be the chance to get to visit with Santa Claus himself\, take a picture with Santa\, and post a letter at Santa’s official post box. \n*A sensory Santa experience will be offered on Friday\, December 3rd and December 10th from 10:00am-12:00 pm\, where the sights and sounds will be toned down and calmer\, yet still include all of the fun and festivities of the Santa Express. Please email info@wicklowchristmasmarket.com for ticket information. Brand new this year\, we are excited to announce the addition of an Eco Ice Skating Rink! Round out the day of Christmas festivities with a glide on the ice along with your favorite Christmas music. [quote here] Santa Express Tickets: Children (ades 1-12) €19.95 Adults (13 and up) €11.95 Infants (under 1) €11.95 Wicklow on Ice Skating Tickets €12.95 Enquiries: Call us on (0404) 54400 or Email us on info@wicklowchristmasmarket.com Tickets at: www.wicklowchristmasmarket.com
URL:https://visitwicklow.ie/event/wicklow-christmas-market-2021/
ATTACH;FMTTYPE=image/jpeg:https://visitwicklow.ie/wp-assets/uploads/2021/10/0ddd343b-5529-44fc-b46a-adfa9603afbc.jpg
END:VEVENT
END:VCALENDAR