BEGIN:VCALENDAR
VERSION:2.0
PRODID:-//Wicklow County Tourism - ECPv6.13.2.1//NONSGML v1.0//EN
CALSCALE:GREGORIAN
METHOD:PUBLISH
X-WR-CALNAME:Wicklow County Tourism
X-ORIGINAL-URL:https://visitwicklow.ie
X-WR-CALDESC:Events for Wicklow County Tourism
REFRESH-INTERVAL;VALUE=DURATION:PT1H
X-Robots-Tag:noindex
X-PUBLISHED-TTL:PT1H
BEGIN:VTIMEZONE
TZID:Europe/London
BEGIN:DAYLIGHT
TZOFFSETFROM:+0000
TZOFFSETTO:+0100
TZNAME:BST
DTSTART:20210328T010000
END:DAYLIGHT
BEGIN:STANDARD
TZOFFSETFROM:+0100
TZOFFSETTO:+0000
TZNAME:GMT
DTSTART:20211031T010000
END:STANDARD
END:VTIMEZONE
BEGIN:VEVENT
DTSTART;VALUE=DATE:20210819
DTEND;VALUE=DATE:20210830
DTSTAMP:20260424T101815
CREATED:20210807T125902Z
LAST-MODIFIED:20210807T132649Z
UID:49842-1629331200-1630281599@visitwicklow.ie
SUMMARY:Whale Theatre August Events
DESCRIPTION:August Events:  Lisa Hannigan – The Emma Longford Trio – The 4 of Us – Paddy Casey – Colm O’Regan – Ceol Connected – The Quiet Tree\nLisa Hannigan Thursday 19th August at 3pm & 8pm.\n\nLaunching the Whale Theatre’s 2021 disPLAYced programme\, Irish Musician Lisa Hannigan takes to the Whale Theatre stage.\nHannigan’s last record was ‘Live in Dublin’ made with experimental orchestral collective s t a r g a z e in Dublin’s National Concert Hall\, and was released in May 2019. This live record followed Hannigan’s critically acclaimed third full-length studio album\, ‘At Swim’ produced by Aaron Dessner.\nThis performance is supported by The Department of Tourism\, Culture\, Arts\, Gaeltacht\, Sport and Media through the Live Performance Support Scheme.\nTickets priced at €35 are available at whaletheatre.ie\n\nThe Emma Langford Trio – Friday 20th August at 8pm.\n \n\nSweet and sardonic in equal measures\, Emma Langford is a songwriters’ songwriter. Creating work that fuses trad\, folk\, and jazz; her writing and performance are a celebration of this nation’s tradition of storytelling.\nNever one to shy from hard work\, Langford made the bold but rewarding move of releasing an album at the height of a pandemic – ‘Sowing Acorns’ landed in September 2020 and received huge international praise. Having bided her time long enough now\, she can’t wait to share the album live on stage in 2021 before her beloved audience – heckling and singing along are welcomed\, nay encouraged.\nThis performance is supported by The Department of Tourism\, Culture\, Arts\, Gaeltacht\, Sport and Media through the Live Performance Support Scheme.\nTickets priced at €25 are available at whaletheatre.ie\n\nThe 4 of Us – Saturday 21st August at 8pm\n \n\nThe Murphy brothers will be performing on the Whale Theatre stage on Saturday the 21st of August as part of the Whale’s newly launched disPLAYced 2021 programme.\nThe 4 Of Us shot to early fame towards the end of 1989 with their debut Songs for the Tempted\, which featured the massive hits Mary and Drag My Bad Name Down. The follow up Man Alive made Q magazine’s prestigious Top 50 Albums of 1992 and included the UK Top 30 song She Hits Me.\nThis performance is supported by The Department of Tourism\, Culture\, Arts\, Gaeltacht\, Sport and Media through the Live Performance Support Scheme.\nTickets priced at €25 are available now at whaletheatre.ie\n\nPaddy Casey – Friday 27th August at 8pm\n \n\nCelebrating the success of his fifth album\, The Secret Life Of\, Paddy Casey has come a long way from a childhood love of music that would bring him to tears…Having gotten his first guitar at the age of 12\, it was clear long before that fateful day that young Dubliner Paddy Casey had soul.\nNow with five albums to his credit – including this year’s The Secret Life Of – Casey has established himself as one of Ireland’s more interesting singer/songwriters. And catching him live in an intimate venue is pretty much where the man shines brightest.\nThis performance is supported by The Department of Tourism\, Culture\, Arts\, Gaeltacht\, Sport and Media through the Live Performance Support Scheme.\nTickets priced at €25 are available now at Whaletheatre.ie\n\nColm O’Regan – Saturday 28th August at 3pm & 8pm\n \n\nBest-selling and critically acclaimed broadcaster\, author comedian and\, for recently RTE Comic Relief Quizmaster Colm O’Regan is raring to get back onto the stage after lockdown.\nAs a stand-up comedian\, he has performed all over the world. His stand-up has also featured on RTÉ’s Late Late Show and on Comedy Central.\nThis performance is supported by The Department of Tourism\, Culture\, Arts\, Gaeltacht\, Sport and Media through the Live Performance Support Scheme.\nTickets priced at €22 are available now at Whaletheatre.ie\n\nCeol Connected – The Quiet Tree – Sunday 29th August at 12pm & 3pm\n \n\nThe creatures of Whistleberry Forest have discovered a little oak tree growing deep in the woods. However\, there are no birds singing\, no leaves rustling\, and no animals scurrying around its trunk.\nPresented by Ceol Connected\, this delightful show is packed with mesmerising music and singalong songs. Children and their adults are invited on an adventure through the forest where they will explore musical soundscapes\, sing\, dance\, and help Ornaith the owl\, Sorley the snail\, and Faolán the frog bring the little oak tree to life through music.\nPerformed by Ceol Connected’s Thomas Johnston (whistles and song) and Samantha Harvey (keys). Suitable for children ages 2-6 and their adults.\nThis performance is supported by The Department of Tourism\, Culture\, Arts\, Gaeltacht\, Sport and Media through the Live Performance Support Scheme.\nTickets priced at €12 are available now at whaletheatre.ie
URL:https://visitwicklow.ie/event/whale-theatre-august-events/
ATTACH;FMTTYPE=image/jpeg:https://visitwicklow.ie/wp-assets/uploads/2021/08/whale-theatre2.jpg
END:VEVENT
END:VCALENDAR